BEGIN:VCALENDAR
VERSION:2.0
PRODID:-//TPL Foundation - ECPv6.15.20//NONSGML v1.0//EN
CALSCALE:GREGORIAN
METHOD:PUBLISH
X-WR-CALNAME:TPL Foundation
X-ORIGINAL-URL:https://tplfund.org
X-WR-CALDESC:Events for TPL Foundation
REFRESH-INTERVAL;VALUE=DURATION:PT1H
X-Robots-Tag:noindex
X-PUBLISHED-TTL:PT1H
BEGIN:VTIMEZONE
TZID:America/Chicago
BEGIN:DAYLIGHT
TZOFFSETFROM:-0600
TZOFFSETTO:-0500
TZNAME:CDT
DTSTART:20250309T080000
END:DAYLIGHT
BEGIN:STANDARD
TZOFFSETFROM:-0500
TZOFFSETTO:-0600
TZNAME:CST
DTSTART:20251102T070000
END:STANDARD
BEGIN:DAYLIGHT
TZOFFSETFROM:-0600
TZOFFSETTO:-0500
TZNAME:CDT
DTSTART:20260308T080000
END:DAYLIGHT
BEGIN:STANDARD
TZOFFSETFROM:-0500
TZOFFSETTO:-0600
TZNAME:CST
DTSTART:20261101T070000
END:STANDARD
BEGIN:DAYLIGHT
TZOFFSETFROM:-0600
TZOFFSETTO:-0500
TZNAME:CDT
DTSTART:20270314T080000
END:DAYLIGHT
BEGIN:STANDARD
TZOFFSETFROM:-0500
TZOFFSETTO:-0600
TZNAME:CST
DTSTART:20271107T070000
END:STANDARD
END:VTIMEZONE
BEGIN:VTIMEZONE
TZID:UTC
BEGIN:STANDARD
TZOFFSETFROM:+0000
TZOFFSETTO:+0000
TZNAME:UTC
DTSTART:20250101T000000
END:STANDARD
END:VTIMEZONE
BEGIN:VEVENT
DTSTART;TZID=America/Chicago:20260421T100000
DTEND;TZID=America/Chicago:20260421T103000
DTSTAMP:20260421T022832
CREATED:20260111T001408Z
LAST-MODIFIED:20260319T182407Z
UID:10000453-1776765600-1776767400@tplfund.org
SUMMARY:Storytime Stars
DESCRIPTION:
URL:https://tplfund.org/event/busy-bees-storytime-15/
LOCATION:Weaver Bolden; Youth
END:VEVENT
BEGIN:VEVENT
DTSTART;TZID=America/Chicago:20260421T110000
DTEND;TZID=America/Chicago:20260421T140000
DTSTAMP:20260421T022832
CREATED:20251211T050502Z
LAST-MODIFIED:20260319T182407Z
UID:10000355-1776769200-1776780000@tplfund.org
SUMMARY:Community Knit/Croc Group
DESCRIPTION:
URL:https://tplfund.org/event/community-knit-croc-group-31/
END:VEVENT
BEGIN:VEVENT
DTSTART;TZID=UTC:20260421T150000
DTEND;TZID=UTC:20260421T153000
DTSTAMP:20260421T022832
CREATED:20260307T165559Z
LAST-MODIFIED:20260314T173937Z
UID:10000541-1776783600-1776785400@tplfund.org
SUMMARY:Storytime Stars
DESCRIPTION:
URL:https://tplfund.org/event/storytime-stars-6/
LOCATION:Weaver Bolden; Youth
END:VEVENT
BEGIN:VEVENT
DTSTART;TZID=UTC:20260421T160000
DTEND;TZID=UTC:20260421T190000
DTSTAMP:20260421T022832
CREATED:20260307T165559Z
LAST-MODIFIED:20260314T173937Z
UID:10000542-1776787200-1776798000@tplfund.org
SUMMARY:Community Knit/Croc Group
DESCRIPTION:
URL:https://tplfund.org/event/community-knit-croc-group-55/
END:VEVENT
END:VCALENDAR